BEGIN:VCALENDAR
PRODID:-//PUBBLE//agenda//NL
VERSION:2.0
METHOD:PUBLISH
BEGIN:VEVENT
DTSTART:20201026T170000Z
DTEND:20201026T180000Z
DTSTAMP:20260422T192953Z
UID:a6aac30c-b74f-4ff2-9cf4-b2f5b3a02b45
CREATED:20260422T192953Z
NAME:Start avondleesgroep Engels Zwolle  deswollenaer.nl
X-WR-CALNAME:Start avondleesgroep Engels Zwolle 
X-ALT-DESC;FMTTYPE=text/html:<a href='/agenda/2020/10/26/start-avondleesgroep-engels-zwolle-222505'>/agenda/2020/10/26/start-avondleesgroep-engels-zwolle-222505</a> || <p>Hebt u juist nu in deze coronaperiode tijd om mooie boeken te lezen en wilt u uw leeservaringen delen met anderen in een kleine groep? Word dan lid van een Senia leesgroep. Uiteraard met inachtneming van de geldende regels.</p><p>In Zwolle start binnenkort een avondleesgroep Engelse literatuur. In de Bibliotheek Stadkamer is op maandagavond 26 oktober een informatiebijeenkomst voor mensen die het leuk vinden om Engelse literatuur te lezen en dit met elkaar in het Engels te bespreken. </p><p></p><p>Senia richt in heel Nederland leesclubs op en brengt zo mensen die graag lezen en dezelfde interesses hebben bij elkaar. </p><p>Meer informatie over de werkwijze is te vinden op www.senia.nl.</p><p>Praktische informatie</p><p>Belangstellenden zijn welkom op 26 oktober in de Bibliotheek Stadkamer, Zeven Alleetjes 1a in Zwolle. Aanvang 19.00 uur.</p><p></p><p>Er  is plaats voor maximaal 8 personen, bij meer aanmeldingen wordt een tweede bijeenkomst georganiseerd. Daarom is in deze bijzondere tijd aanmelden verplicht. Dat kan via e-mail wilhelmien.kalter@senia.nl.  </p><p></p><p></p><p></p><p></p><p></p><p></p>
DESCRIPTION:<a href='/agenda/2020/10/26/start-avondleesgroep-engels-zwolle-222505'>/agenda/2020/10/26/start-avondleesgroep-engels-zwolle-222505</a> || <p>Hebt u juist nu in deze coronaperiode tijd om mooie boeken te lezen en wilt u uw leeservaringen delen met anderen in een kleine groep? Word dan lid van een Senia leesgroep. Uiteraard met inachtneming van de geldende regels.</p><p>In Zwolle start binnenkort een avondleesgroep Engelse literatuur. In de Bibliotheek Stadkamer is op maandagavond 26 oktober een informatiebijeenkomst voor mensen die het leuk vinden om Engelse literatuur te lezen en dit met elkaar in het Engels te bespreken. </p><p></p><p>Senia richt in heel Nederland leesclubs op en brengt zo mensen die graag lezen en dezelfde interesses hebben bij elkaar. </p><p>Meer informatie over de werkwijze is te vinden op www.senia.nl.</p><p>Praktische informatie</p><p>Belangstellenden zijn welkom op 26 oktober in de Bibliotheek Stadkamer, Zeven Alleetjes 1a in Zwolle. Aanvang 19.00 uur.</p><p></p><p>Er  is plaats voor maximaal 8 personen, bij meer aanmeldingen wordt een tweede bijeenkomst georganiseerd. Daarom is in deze bijzondere tijd aanmelden verplicht. Dat kan via e-mail wilhelmien.kalter@senia.nl.  </p><p></p><p></p><p></p><p></p><p></p><p></p>
LAST-MODIFIED:20260422T192953Z
LOCATION: Stadkamer | Zeven Alleetjes 1a Zwolle
SEQUENCE:0
STATUS:CONFIRMED
SUMMARY:Start avondleesgroep Engels Zwolle 
TRANSP:OPAQUE
END:VEVENT
END:VCALENDAR
