BEGIN:VCALENDAR
PRODID:-//PUBBLE//agenda//NL
VERSION:2.0
METHOD:PUBLISH
BEGIN:VEVENT
DTSTART:20201027T120000Z
DTEND:20201027T130000Z
DTSTAMP:20260422T192224Z
UID:ba2d0995-9b5b-4f9c-85f8-d2d35037c382
CREATED:20260422T192224Z
NAME:Start leesgroep kunstgeschiedenis Zwolle  deswollenaer.nl
X-WR-CALNAME:Start leesgroep kunstgeschiedenis Zwolle 
X-ALT-DESC;FMTTYPE=text/html:<a href='/agenda/2020/10/27/start-leesgroep-kunstgeschiedenis-zwolle-222506'>/agenda/2020/10/27/start-leesgroep-kunstgeschiedenis-zwolle-222506</a> || <p>Hebt u juist nu, in deze coronaperiode, de tijd om u te verdiepen in kunstgeschiedenis en kunstbeleving? En heeft u de behoefte om uw leeservaring met anderen te delen in een kleine groep? Word dan lid van een Senia-leesclub. Uiteraard met inachtneming van de geldende regels.</p><p></p><p>In Zwolle start binnenkort een leesgroep kunstgeschiedenis. In de Bibliotheek Stadkamer is op dinsdagmiddag 27 oktober een informatiebijeenkomst voor mensen die het leuk vinden om over kunstgeschiedenis en kunststromingen te praten en met elkaar te bespreken.</p><p></p><p>Senia brengt mensen met interesse voor kunst bij elkaar. Op de website www.senia.nl staat meer informatie over de werkwijze en de kosten.</p><p></p><p>Praktische informatie</p><p>U bent van harte welkom op dinsdag 27 oktober om 14.00 uur in de Bibliotheek Stadkamer, Zeven Alleetjes 1a in Zwolle om kennis te maken met een leesgroep kunstgeschiedenis. </p><p></p><p>Er  is plaats voor maximaal 8 personen, bij meer aanmeldingen wordt een tweede bijeenkomst georganiseerd. Daarom is in deze bijzondere tijd aanmelden verplicht. Dat kan via e-mail wilhelmien.kalter@senia.nl.  </p><p></p><p></p><p>  </p><p></p><p></p><p></p>
DESCRIPTION:<a href='/agenda/2020/10/27/start-leesgroep-kunstgeschiedenis-zwolle-222506'>/agenda/2020/10/27/start-leesgroep-kunstgeschiedenis-zwolle-222506</a> || <p>Hebt u juist nu, in deze coronaperiode, de tijd om u te verdiepen in kunstgeschiedenis en kunstbeleving? En heeft u de behoefte om uw leeservaring met anderen te delen in een kleine groep? Word dan lid van een Senia-leesclub. Uiteraard met inachtneming van de geldende regels.</p><p></p><p>In Zwolle start binnenkort een leesgroep kunstgeschiedenis. In de Bibliotheek Stadkamer is op dinsdagmiddag 27 oktober een informatiebijeenkomst voor mensen die het leuk vinden om over kunstgeschiedenis en kunststromingen te praten en met elkaar te bespreken.</p><p></p><p>Senia brengt mensen met interesse voor kunst bij elkaar. Op de website www.senia.nl staat meer informatie over de werkwijze en de kosten.</p><p></p><p>Praktische informatie</p><p>U bent van harte welkom op dinsdag 27 oktober om 14.00 uur in de Bibliotheek Stadkamer, Zeven Alleetjes 1a in Zwolle om kennis te maken met een leesgroep kunstgeschiedenis. </p><p></p><p>Er  is plaats voor maximaal 8 personen, bij meer aanmeldingen wordt een tweede bijeenkomst georganiseerd. Daarom is in deze bijzondere tijd aanmelden verplicht. Dat kan via e-mail wilhelmien.kalter@senia.nl.  </p><p></p><p></p><p>  </p><p></p><p></p><p></p>
LAST-MODIFIED:20260422T192224Z
LOCATION: Stadkamer | Zeven Alleetjes 1a Zwolle
SEQUENCE:0
STATUS:CONFIRMED
SUMMARY:Start leesgroep kunstgeschiedenis Zwolle 
TRANSP:OPAQUE
END:VEVENT
END:VCALENDAR
