BEGIN:VCALENDAR
PRODID:-//PUBBLE//agenda//NL
VERSION:2.0
METHOD:PUBLISH
BEGIN:VEVENT
DTSTART:20201205T090000Z
DTEND:20201205T100000Z
DTSTAMP:20260424T003253Z
UID:61139009-a031-4644-90e9-ab7cf3ee1dd6
CREATED:20260424T003253Z
NAME:Frankrijk: Nouvelle vague (lezing) deswollenaer.nl
X-WR-CALNAME:Frankrijk: Nouvelle vague (lezing)
X-ALT-DESC;FMTTYPE=text/html:<a href='/agenda/2020/12/5/frankrijk-nouvelle-vague-lezing--226177'>/agenda/2020/12/5/frankrijk-nouvelle-vague-lezing--226177</a> || <p>Frankrijk: Nouvelle Vague - Constant Hoogenbosch</p><p></p><p>De Nouvelle Vague is één van de invloedrijkste filmstromingen van de twintigste eeuw. Constant Hoogenbosch gaat terug naar de jaren vijftig, waar zich in Frankrijk rond het toonaangevende filmtijdschrift Cahiers du cinéma een groep formeert die wilde afrekenen met de door Hollywood gedicteerde filmwetten en conventies. Ze spraken over de auteursfilm. Namen als François Truffaut, Jean-Luc Godard, Claude Chabrol, Éric Rohmer, Jacques Rivette en Agnès Varda worden voor altijd in verband gebracht met deze filmschool, die leven, gedachten en emoties op een oprechte manier wilden weergeven en niet gekunsteld zoals in Hollywood gebeurde. Doel was niet zozeer om publiek te vermaken, maar om oprecht te communiceren. Constant Hoogenbosch spitst het verhaal van de Nouvelle Vague toe op François Truffaut en trekt lijnen naar de Japanse regisseur Yasujiro Ozu (1903-1963) en de Dogme 95-beweging van de Deense regisseurs Thomas Vinterberg en Lars von Trier.</p><p></p><p></p><p>Vanwege de bekende 1,5 meter maatregelen zijn er slechts een beperkt aantal plaatsen beschikbaar.</p><p></p><p>www.filmtheaterfraterhuis.nl</p>
DESCRIPTION:<a href='/agenda/2020/12/5/frankrijk-nouvelle-vague-lezing--226177'>/agenda/2020/12/5/frankrijk-nouvelle-vague-lezing--226177</a> || <p>Frankrijk: Nouvelle Vague - Constant Hoogenbosch</p><p></p><p>De Nouvelle Vague is één van de invloedrijkste filmstromingen van de twintigste eeuw. Constant Hoogenbosch gaat terug naar de jaren vijftig, waar zich in Frankrijk rond het toonaangevende filmtijdschrift Cahiers du cinéma een groep formeert die wilde afrekenen met de door Hollywood gedicteerde filmwetten en conventies. Ze spraken over de auteursfilm. Namen als François Truffaut, Jean-Luc Godard, Claude Chabrol, Éric Rohmer, Jacques Rivette en Agnès Varda worden voor altijd in verband gebracht met deze filmschool, die leven, gedachten en emoties op een oprechte manier wilden weergeven en niet gekunsteld zoals in Hollywood gebeurde. Doel was niet zozeer om publiek te vermaken, maar om oprecht te communiceren. Constant Hoogenbosch spitst het verhaal van de Nouvelle Vague toe op François Truffaut en trekt lijnen naar de Japanse regisseur Yasujiro Ozu (1903-1963) en de Dogme 95-beweging van de Deense regisseurs Thomas Vinterberg en Lars von Trier.</p><p></p><p></p><p>Vanwege de bekende 1,5 meter maatregelen zijn er slechts een beperkt aantal plaatsen beschikbaar.</p><p></p><p>www.filmtheaterfraterhuis.nl</p>
LAST-MODIFIED:20260424T003253Z
LOCATION: Gymzaal De Twijn | Dokter Hengeveldweg  2 Zwolle
SEQUENCE:0
STATUS:CONFIRMED
SUMMARY:Frankrijk: Nouvelle vague (lezing)
TRANSP:OPAQUE
END:VEVENT
END:VCALENDAR
