BEGIN:VCALENDAR
PRODID:-//PUBBLE//agenda//NL
VERSION:2.0
METHOD:PUBLISH
BEGIN:VEVENT
DTSTART:20201203T164500Z
DTEND:20201203T174500Z
DTSTAMP:20260424T003222Z
UID:baee0c31-5506-449d-8424-c1d4db36de04
CREATED:20260424T003222Z
NAME:Filmpremière: The Assistant deswollenaer.nl
X-WR-CALNAME:Filmpremière: The Assistant
X-ALT-DESC;FMTTYPE=text/html:<a href='/agenda/2020/12/3/filmpremiere-the-assistant-226586'>/agenda/2020/12/3/filmpremiere-the-assistant-226586</a> || <p>Indringend drama over de jonge assistente van een machtige filmmagnaat die de misstanden in haar bedrijf aan de kaak stelt.</p><p></p><p>Sinds enkele weken heeft Jane haar droombaan als assistente van een succesvolle magnaat in de entertainmentwereld van New York. Als jongste employee maakt ze lange dagen die voornamelijk gevuld zijn met routineklusjes: scripts kopiëren, afspraken beheren, lunch bestellen, de kopjes opruimen. De grote baas is amper zichtbaar, maar zijn autoriteit en explosieve willekeur zijn constant voelbaar. Van haar collega's krijgt Jane aanmatigend advies onder het mom van collegialiteit, maar ze kent haar plaats en laat zich hun micro-agressie welgevallen. Langzaamaan, gedurende de dag, krijgen ze zicht op de omvang van het misbruik en de heersende zwijgcultuur op het kantoor. Subtiel maar meedogenloos laat ‘The Assistant’ zien hoe de verdorvenheid tot in iedere vezel van het bedrijf is doorgedrongen.</p><p>www.filmtheaterfraterhuis.nl</p>
DESCRIPTION:<a href='/agenda/2020/12/3/filmpremiere-the-assistant-226586'>/agenda/2020/12/3/filmpremiere-the-assistant-226586</a> || <p>Indringend drama over de jonge assistente van een machtige filmmagnaat die de misstanden in haar bedrijf aan de kaak stelt.</p><p></p><p>Sinds enkele weken heeft Jane haar droombaan als assistente van een succesvolle magnaat in de entertainmentwereld van New York. Als jongste employee maakt ze lange dagen die voornamelijk gevuld zijn met routineklusjes: scripts kopiëren, afspraken beheren, lunch bestellen, de kopjes opruimen. De grote baas is amper zichtbaar, maar zijn autoriteit en explosieve willekeur zijn constant voelbaar. Van haar collega's krijgt Jane aanmatigend advies onder het mom van collegialiteit, maar ze kent haar plaats en laat zich hun micro-agressie welgevallen. Langzaamaan, gedurende de dag, krijgen ze zicht op de omvang van het misbruik en de heersende zwijgcultuur op het kantoor. Subtiel maar meedogenloos laat ‘The Assistant’ zien hoe de verdorvenheid tot in iedere vezel van het bedrijf is doorgedrongen.</p><p>www.filmtheaterfraterhuis.nl</p>
LAST-MODIFIED:20260424T003222Z
LOCATION: Gymzaal De Twijn | Dokter Hengeveldweg  2 Zwolle
SEQUENCE:0
STATUS:CONFIRMED
SUMMARY:Filmpremière: The Assistant
TRANSP:OPAQUE
END:VEVENT
END:VCALENDAR
