BEGIN:VCALENDAR
PRODID:-//PUBBLE//agenda//NL
VERSION:2.0
METHOD:PUBLISH
BEGIN:VEVENT
DTSTART:20201203T183000Z
DTEND:20201203T193000Z
DTSTAMP:20260424T003222Z
UID:6d63e3f3-49e3-4471-8360-e62345cf8499
CREATED:20260424T003222Z
NAME:Filmpremière: Rifkin's festival deswollenaer.nl
X-WR-CALNAME:Filmpremière: Rifkin's festival
X-ALT-DESC;FMTTYPE=text/html:<a href='/agenda/2020/12/3/filmpremiere-rifkin-s-festival-226589'>/agenda/2020/12/3/filmpremiere-rifkin-s-festival-226589</a> || <p>Romantische komedie over een stel dat naar het filmfestival van San Sebastian reist en ter plekke weer verliefd wordt, zij het niet op elkaar.</p><p></p><p>Wanneer filmliefhebber Mort Rifkin (Wallace Shawn) zijn echtgenote, publiciteitsagent Sue (Gina Gershon) vergezelt naar het San Sebastian filmfestival in Spanje vermoedt hij dat haar fascinatie voor haar jonge cliënt, regisseur Philippe misschien wel iets verder gaat dan alleen werk. Terwijl Philippe’s film overladen wordt met lof, vindt Mort deze maar banaal. Morts voortdurende afkeuring van Philippe, iemand die belangrijk is voor Sue als cliënt maar ook als persoon die ze bewondert, zet hun toch al kwetsbare huwelijk verder onder druk… Met absurdistische humor vermengt Woody Allen (‘Midnight in Paris’) in deze film onwerkelijke situaties met verhalen over liefde en hartzeer. Hij brengt hiermee een liefdevol eerbetoon aan de altijd transformerende kracht van film.</p><p>www.filmtheaterfraterhuis.nl</p>
DESCRIPTION:<a href='/agenda/2020/12/3/filmpremiere-rifkin-s-festival-226589'>/agenda/2020/12/3/filmpremiere-rifkin-s-festival-226589</a> || <p>Romantische komedie over een stel dat naar het filmfestival van San Sebastian reist en ter plekke weer verliefd wordt, zij het niet op elkaar.</p><p></p><p>Wanneer filmliefhebber Mort Rifkin (Wallace Shawn) zijn echtgenote, publiciteitsagent Sue (Gina Gershon) vergezelt naar het San Sebastian filmfestival in Spanje vermoedt hij dat haar fascinatie voor haar jonge cliënt, regisseur Philippe misschien wel iets verder gaat dan alleen werk. Terwijl Philippe’s film overladen wordt met lof, vindt Mort deze maar banaal. Morts voortdurende afkeuring van Philippe, iemand die belangrijk is voor Sue als cliënt maar ook als persoon die ze bewondert, zet hun toch al kwetsbare huwelijk verder onder druk… Met absurdistische humor vermengt Woody Allen (‘Midnight in Paris’) in deze film onwerkelijke situaties met verhalen over liefde en hartzeer. Hij brengt hiermee een liefdevol eerbetoon aan de altijd transformerende kracht van film.</p><p>www.filmtheaterfraterhuis.nl</p>
LAST-MODIFIED:20260424T003222Z
LOCATION: Gymzaal De Twijn | Dokter Hengeveldweg  2 Zwolle
SEQUENCE:0
STATUS:CONFIRMED
SUMMARY:Filmpremière: Rifkin's festival
TRANSP:OPAQUE
END:VEVENT
END:VCALENDAR
