BEGIN:VCALENDAR
PRODID:-//PUBBLE//agenda//NL
VERSION:2.0
METHOD:PUBLISH
BEGIN:VEVENT
DTSTART:20201204T140000Z
DTEND:20201204T150000Z
DTSTAMP:20260424T003222Z
UID:873966ad-5399-439c-8d90-316bad5beb8f
CREATED:20260424T003222Z
NAME:Filmpremière: Notturno deswollenaer.nl
X-WR-CALNAME:Filmpremière: Notturno
X-ALT-DESC;FMTTYPE=text/html:<a href='/agenda/2020/12/4/filmpremiere-notturno-226591'>/agenda/2020/12/4/filmpremiere-notturno-226591</a> || <p>Portret van de mensen die proberen te overleven in het door oorlog verscheurde grensgebied van Irak, Syrië en Libanon.</p><p></p><p>De geschiedenis van deze regio is er één van onderdrukking, terrorisme, buitenlandse inmenging en dictators. Wie er woont, probeert niettemin een normaal leven te leiden, zo goed als dat gaat. ‘Notturno’ toont het dagelijks bestaan van een gezin dat leeft in één kamer, volgt een jager op zijn nachtelijke kanotocht en legt de voorbereidingen voor een toneeluitvoering in een zorginrichting vast. Het zijn serene, soms humoristische taferelen, maar op de achtergrond klinkt regelmatig geschut. Huiveringwekkend zijn de getuigenissen van kinderen die de gruwelen beschrijven van IS-strijders. Gianfranco Rosi (o.a. ‘Fuocoammare’) filmt alles als een schilder en laat de scènes voor zich spreken. Het schitterende camerawerk, vaak bij avond- of ochtendlicht, vormt de rode draad in zijn zoektocht naar menselijkheid.</p><p>www.filmtheaterfraterhuis.nl</p>
DESCRIPTION:<a href='/agenda/2020/12/4/filmpremiere-notturno-226591'>/agenda/2020/12/4/filmpremiere-notturno-226591</a> || <p>Portret van de mensen die proberen te overleven in het door oorlog verscheurde grensgebied van Irak, Syrië en Libanon.</p><p></p><p>De geschiedenis van deze regio is er één van onderdrukking, terrorisme, buitenlandse inmenging en dictators. Wie er woont, probeert niettemin een normaal leven te leiden, zo goed als dat gaat. ‘Notturno’ toont het dagelijks bestaan van een gezin dat leeft in één kamer, volgt een jager op zijn nachtelijke kanotocht en legt de voorbereidingen voor een toneeluitvoering in een zorginrichting vast. Het zijn serene, soms humoristische taferelen, maar op de achtergrond klinkt regelmatig geschut. Huiveringwekkend zijn de getuigenissen van kinderen die de gruwelen beschrijven van IS-strijders. Gianfranco Rosi (o.a. ‘Fuocoammare’) filmt alles als een schilder en laat de scènes voor zich spreken. Het schitterende camerawerk, vaak bij avond- of ochtendlicht, vormt de rode draad in zijn zoektocht naar menselijkheid.</p><p>www.filmtheaterfraterhuis.nl</p>
LAST-MODIFIED:20260424T003222Z
LOCATION: Gymzaal De Twijn | Dokter Hengeveldweg  2 Zwolle
SEQUENCE:0
STATUS:CONFIRMED
SUMMARY:Filmpremière: Notturno
TRANSP:OPAQUE
END:VEVENT
END:VCALENDAR
