BEGIN:VCALENDAR
PRODID:-//PUBBLE//agenda//NL
VERSION:2.0
METHOD:PUBLISH
BEGIN:VEVENT
DTSTART:20201204T191500Z
DTEND:20201204T201500Z
DTSTAMP:20260424T021246Z
UID:11ddb0e1-7036-4d32-9a5c-bb1905d6d641
CREATED:20260424T021246Z
NAME:Filmpremière: Just 6.5 deswollenaer.nl
X-WR-CALNAME:Filmpremière: Just 6.5
X-ALT-DESC;FMTTYPE=text/html:<a href='/agenda/2020/12/4/filmpremiere-just-6-5-226593'>/agenda/2020/12/4/filmpremiere-just-6-5-226593</a> || <p>Een explosieve en snijdende Iraanse film die ons rechtstreeks naar het kloppende centrum van een massaal politieonderzoek naar een grote drugsbaron brengt.</p><p></p><p>Agent Samad is lid van de anti-narcoticabrigade en op zoek naar de grote drugsbaas Nasser Khakzad. Hij weet deze op te sporen in zijn penthouse, waar hij Nasser echter bewusteloos aantreft nadat deze zichzelf van het leven wilde beroven. Samad realiseert zich langzaam dat Nasser op het criminele pad is beland vanwege de armoedige omstandigheden waarin diens familie verkeerde. De film vormt een ontnuchterende reflectie op het onvermogen van de wet om drugsverslaving te stoppen door middel van razzia's, arrestaties en executies. De echte criminelen hier zijn de drugs en de pijn die ze toebrengen aan een schijnbaar eindeloos netwerk van mensen. Regisseur Saeed Roustayi maakte een indringende en tot nadenken stemmende film, met een intense, gespannen sfeer.</p><p>www.filmtheaterfraterhuis.nl</p>
DESCRIPTION:<a href='/agenda/2020/12/4/filmpremiere-just-6-5-226593'>/agenda/2020/12/4/filmpremiere-just-6-5-226593</a> || <p>Een explosieve en snijdende Iraanse film die ons rechtstreeks naar het kloppende centrum van een massaal politieonderzoek naar een grote drugsbaron brengt.</p><p></p><p>Agent Samad is lid van de anti-narcoticabrigade en op zoek naar de grote drugsbaas Nasser Khakzad. Hij weet deze op te sporen in zijn penthouse, waar hij Nasser echter bewusteloos aantreft nadat deze zichzelf van het leven wilde beroven. Samad realiseert zich langzaam dat Nasser op het criminele pad is beland vanwege de armoedige omstandigheden waarin diens familie verkeerde. De film vormt een ontnuchterende reflectie op het onvermogen van de wet om drugsverslaving te stoppen door middel van razzia's, arrestaties en executies. De echte criminelen hier zijn de drugs en de pijn die ze toebrengen aan een schijnbaar eindeloos netwerk van mensen. Regisseur Saeed Roustayi maakte een indringende en tot nadenken stemmende film, met een intense, gespannen sfeer.</p><p>www.filmtheaterfraterhuis.nl</p>
LAST-MODIFIED:20260424T021246Z
LOCATION: Gymzaal De Twijn | Dokter Hengeveldweg  2 Zwolle
SEQUENCE:0
STATUS:CONFIRMED
SUMMARY:Filmpremière: Just 6.5
TRANSP:OPAQUE
END:VEVENT
END:VCALENDAR
