BEGIN:VCALENDAR
PRODID:-//PUBBLE//agenda//NL
VERSION:2.0
METHOD:PUBLISH
BEGIN:VEVENT
DTSTART:20201206T093000Z
DTEND:20201206T103000Z
DTSTAMP:20260424T003223Z
UID:e2544968-8fea-42d1-ad4f-130f34d0d7db
CREATED:20260424T003223Z
NAME:Film: De beentjes van Sint-Hildegard deswollenaer.nl
X-WR-CALNAME:Film: De beentjes van Sint-Hildegard
X-ALT-DESC;FMTTYPE=text/html:<a href='/agenda/2020/12/6/film-de-beentjes-van-sint-hildegard-226594'>/agenda/2020/12/6/film-de-beentjes-van-sint-hildegard-226594</a> || <p>Komisch drama over een man gespeeld door Herman Finkers die los wil breken uit zijn verstikkende huwelijk.</p><p></p><p>Jan is 35 jaar getrouwd met zijn vrouw Gedda. Zij houdt zóveel van Jan dat hij het er benauwd van krijgt. Gedda ziet het huwelijk als een vorm van begeleid wonen. Als hij een glas van tafel wil pakken, is zij hem al voor en reikt hem het glas aan. Daarnaast bepaalt ze zijn kleding, vriendschappen en vakanties. In een poging meer ruimte te krijgen maakt Jan dermate rare sprongen dat hij zijn huwelijk letterlijk in een gesloten afdeling ziet veranderen. Dochter Liesbeth zit intussen met haar afgepaste en jaloerse vriend in eenzelfde schuitje als haar vader… In deze vrijwel volledig Twentstalige film is de vraag hoeveel liefde te veel is en hoeveel vrijheid twee mensen nodig hebben. Cabaretier Herman Finkers maakt met de hoofdrol zijn bioscoopdebuut en schreef ook het scenario van deze tragikomische film.</p><p>www.filmtheaterfraterhuis.nl</p>
DESCRIPTION:<a href='/agenda/2020/12/6/film-de-beentjes-van-sint-hildegard-226594'>/agenda/2020/12/6/film-de-beentjes-van-sint-hildegard-226594</a> || <p>Komisch drama over een man gespeeld door Herman Finkers die los wil breken uit zijn verstikkende huwelijk.</p><p></p><p>Jan is 35 jaar getrouwd met zijn vrouw Gedda. Zij houdt zóveel van Jan dat hij het er benauwd van krijgt. Gedda ziet het huwelijk als een vorm van begeleid wonen. Als hij een glas van tafel wil pakken, is zij hem al voor en reikt hem het glas aan. Daarnaast bepaalt ze zijn kleding, vriendschappen en vakanties. In een poging meer ruimte te krijgen maakt Jan dermate rare sprongen dat hij zijn huwelijk letterlijk in een gesloten afdeling ziet veranderen. Dochter Liesbeth zit intussen met haar afgepaste en jaloerse vriend in eenzelfde schuitje als haar vader… In deze vrijwel volledig Twentstalige film is de vraag hoeveel liefde te veel is en hoeveel vrijheid twee mensen nodig hebben. Cabaretier Herman Finkers maakt met de hoofdrol zijn bioscoopdebuut en schreef ook het scenario van deze tragikomische film.</p><p>www.filmtheaterfraterhuis.nl</p>
LAST-MODIFIED:20260424T003223Z
LOCATION: Gymzaal De Twijn | Dokter Hengeveldweg  2 Zwolle
SEQUENCE:0
STATUS:CONFIRMED
SUMMARY:Film: De beentjes van Sint-Hildegard
TRANSP:OPAQUE
END:VEVENT
END:VCALENDAR
