BEGIN:VCALENDAR
PRODID:-//PUBBLE//agenda//NL
VERSION:2.0
METHOD:PUBLISH
BEGIN:VEVENT
DTSTART:20201205T121500Z
DTEND:20201205T131500Z
DTSTAMP:20260424T003213Z
UID:5e9dccdf-fc38-4cdc-87a2-68f8d20f2758
CREATED:20260424T003213Z
NAME:Film: The singing club deswollenaer.nl
X-WR-CALNAME:Film: The singing club
X-ALT-DESC;FMTTYPE=text/html:<a href='/agenda/2020/12/5/film-the-singing-club-226597'>/agenda/2020/12/5/film-the-singing-club-226597</a> || <p>Brits komisch drama over de echtgenote van een officier die een groep vrouwen overhaalt om een militair vrouwenkoor te vormen.</p><p></p><p>Het leven van een vrouw van een beroepsmilitair kan zwaar zijn. Gescheiden van geliefden liggen angst en eenzaamheid op de loer en altijd is er de vrees voor die noodlottige klop op de deur. Kate, de perfecte officiersvrouw, draagt die last echter stoïcijns en met stijl. Om niet bij de pakken neer te zitten, probeert ze een groep vrouwen op de basis te overtuigen om een zangkoor te beginnen. Lisa, rebel en rocker in hart en nieren, is sceptisch over het idee, maar laat zich al snel overtuigen door hun humor en moed. Met hartstochtelijk gezongen pophits weten Kate, Lisa en de andere koorleden uiteindelijk hun onderlinge verschillen te overwinnen en krijgen ze tot hun grote verrassing de kans om het optreden van hun leven te geven.</p><p>www.filmtheaterfraterhuis.nl</p>
DESCRIPTION:<a href='/agenda/2020/12/5/film-the-singing-club-226597'>/agenda/2020/12/5/film-the-singing-club-226597</a> || <p>Brits komisch drama over de echtgenote van een officier die een groep vrouwen overhaalt om een militair vrouwenkoor te vormen.</p><p></p><p>Het leven van een vrouw van een beroepsmilitair kan zwaar zijn. Gescheiden van geliefden liggen angst en eenzaamheid op de loer en altijd is er de vrees voor die noodlottige klop op de deur. Kate, de perfecte officiersvrouw, draagt die last echter stoïcijns en met stijl. Om niet bij de pakken neer te zitten, probeert ze een groep vrouwen op de basis te overtuigen om een zangkoor te beginnen. Lisa, rebel en rocker in hart en nieren, is sceptisch over het idee, maar laat zich al snel overtuigen door hun humor en moed. Met hartstochtelijk gezongen pophits weten Kate, Lisa en de andere koorleden uiteindelijk hun onderlinge verschillen te overwinnen en krijgen ze tot hun grote verrassing de kans om het optreden van hun leven te geven.</p><p>www.filmtheaterfraterhuis.nl</p>
LAST-MODIFIED:20260424T003213Z
LOCATION: Gymzaal De Twijn | Dokter Hengeveldweg  2 Zwolle
SEQUENCE:0
STATUS:CONFIRMED
SUMMARY:Film: The singing club
TRANSP:OPAQUE
END:VEVENT
END:VCALENDAR
