BEGIN:VCALENDAR
PRODID:-//PUBBLE//agenda//NL
VERSION:2.0
METHOD:PUBLISH
BEGIN:VEVENT
DTSTART:20250531T080000Z
DTEND:20250531T120000Z
DTSTAMP:20260421T170002Z
UID:6c76dac0-f465-4061-81b7-72a0c6e8f2d1
CREATED:20260421T170002Z
NAME:Lekker Zingen Met Esther deswollenaer.nl
X-WR-CALNAME:Lekker Zingen Met Esther
X-ALT-DESC;FMTTYPE=text/html:<a href='/agenda/2025/5/31/lekker-zingen-met-esther-332238'>/agenda/2025/5/31/lekker-zingen-met-esther-332238</a> || <p>Lekker Zingen Met Esther betekent vier uur lang samen zingen met een leuke groep vrouwen, onder leiding van zangeres/zangcoach Esther Groenenberg. Je gaat drie popliedjes driestemmig zingen en de focus ligt vooral op zangplezier. De zangdag is leuk voor alle niveaus, leeftijden en stemsoorten. De kosten zijn 45 euro per persoon. Op 21 juni en 5 juli staan er ook nog edities op de planning. Aanmelden kan via <a href="mailto:lekkerzingenmetesther@gmail.com">lekkerzingenmetesther@gmail.com</a>&nbsp;</p>
DESCRIPTION:<a href='/agenda/2025/5/31/lekker-zingen-met-esther-332238'>/agenda/2025/5/31/lekker-zingen-met-esther-332238</a> || <p>Lekker Zingen Met Esther betekent vier uur lang samen zingen met een leuke groep vrouwen, onder leiding van zangeres/zangcoach Esther Groenenberg. Je gaat drie popliedjes driestemmig zingen en de focus ligt vooral op zangplezier. De zangdag is leuk voor alle niveaus, leeftijden en stemsoorten. De kosten zijn 45 euro per persoon. Op 21 juni en 5 juli staan er ook nog edities op de planning. Aanmelden kan via <a href="mailto:lekkerzingenmetesther@gmail.com">lekkerzingenmetesther@gmail.com</a>&nbsp;</p>
LAST-MODIFIED:20260421T170002Z
LOCATION: De Oude Ambachtschool | Mimosastraat 1 Zwolle
SEQUENCE:0
STATUS:CONFIRMED
SUMMARY:Lekker Zingen Met Esther
TRANSP:OPAQUE
END:VEVENT
END:VCALENDAR
