BEGIN:VCALENDAR
PRODID:-//PUBBLE//agenda//NL
VERSION:2.0
METHOD:PUBLISH
BEGIN:VEVENT
DTSTART:20250905T060204Z
DTEND:20250905T070204Z
DTSTAMP:20260424T183801Z
UID:aba9bbf1-250b-4a80-b549-0fb0bdb8fcd9
CREATED:20260424T183801Z
NAME:Orgeldebuut 12-jarige Joas Jansen Open Monumentendag in Mariakerk Vollenhove deswollenaer.nl
X-WR-CALNAME:Orgeldebuut 12-jarige Joas Jansen Open Monumentendag in Mariakerk Vollenhove
X-ALT-DESC;FMTTYPE=text/html:<a href='/agenda/2025/9/13/orgeldebuut-12-jarige-joas-jansen-open-monumentendag-in-mariakerk-vollenhove-341651'>/agenda/2025/9/13/orgeldebuut-12-jarige-joas-jansen-open-monumentendag-in-mariakerk-vollenhove-341651</a> || <p>VOLLENHOVE - Ook dit jaar is de Mariakerk en de toren weer open tijdens de Nationale Open Monumentendag op zaterdag 13 september. In deze oude kerk met zijn preekstoel uit het voormalige dorp Beulake en het Heilmann orgelfront uit de voormalige schuilkerk te Oldenzaal, zijn het bekijken waard. Ook zijn er orgelconcerten.</p><ul><li>De orgelconcerten op het Nijsse-Naberorgel beginnen om 10:30 uur met Jan Pieter van Eerde en Wim Lameris met ‘Euphonium’.&nbsp;</li><li>11:15 uur de organist Harry Haasjes uit Dronten onder anderen van J.S. Bach het ‘Wer nur den lieben Gott lässt walten’.</li><li>12:15 uur Joas Jansen uit Staphorst hij speelt onder andere Psalm 42 van Feike Asma. Zijn leermeester Jan Grootenboer onder andere de ‘Fantasie’ en ‘Toccatine’ over Ps.33:1 van Jan Zwart en Choralvorspiel ‘Erbarm dich o mein Herr Gott’ van J.S. Bach.</li><li>13:15 uur de organist Erik Hofstede uit Kampen onder andere met ‘Cantilena’ van J. Rheinberger en ‘Pomp and Circumstance’, bekend van ‘Last Night of the Proms’.&nbsp;</li><li>Daarna om 14:00 uur Karin IJpeerd, Basgitaar-Zang, José IJzerman, Zang-Cajon, Marcel Muizelaar-Trompet, Erik Hofstede -Toetsen en Arrangementen. Hun programma: ‘Segret Garden Medley’ - delen uit de ‘Notenkrakers Suite’, ‘Bloemenduet’ uit Lakme, drie popnummers en de ‘Libertango’ van Piazzola</li><li>15:15 uur Harp, Esther Bos uit Vollenhove. Op haar programma staat muziek van onder anderen Kim Robertson, ‘De Pavane’ van G. Fauré en ‘The Kitchen Ragtime’ van Christoph Pamp.</li></ul><p>Toegang gratis&nbsp;</p>
DESCRIPTION:<a href='/agenda/2025/9/13/orgeldebuut-12-jarige-joas-jansen-open-monumentendag-in-mariakerk-vollenhove-341651'>/agenda/2025/9/13/orgeldebuut-12-jarige-joas-jansen-open-monumentendag-in-mariakerk-vollenhove-341651</a> || <p>VOLLENHOVE - Ook dit jaar is de Mariakerk en de toren weer open tijdens de Nationale Open Monumentendag op zaterdag 13 september. In deze oude kerk met zijn preekstoel uit het voormalige dorp Beulake en het Heilmann orgelfront uit de voormalige schuilkerk te Oldenzaal, zijn het bekijken waard. Ook zijn er orgelconcerten.</p><ul><li>De orgelconcerten op het Nijsse-Naberorgel beginnen om 10:30 uur met Jan Pieter van Eerde en Wim Lameris met ‘Euphonium’.&nbsp;</li><li>11:15 uur de organist Harry Haasjes uit Dronten onder anderen van J.S. Bach het ‘Wer nur den lieben Gott lässt walten’.</li><li>12:15 uur Joas Jansen uit Staphorst hij speelt onder andere Psalm 42 van Feike Asma. Zijn leermeester Jan Grootenboer onder andere de ‘Fantasie’ en ‘Toccatine’ over Ps.33:1 van Jan Zwart en Choralvorspiel ‘Erbarm dich o mein Herr Gott’ van J.S. Bach.</li><li>13:15 uur de organist Erik Hofstede uit Kampen onder andere met ‘Cantilena’ van J. Rheinberger en ‘Pomp and Circumstance’, bekend van ‘Last Night of the Proms’.&nbsp;</li><li>Daarna om 14:00 uur Karin IJpeerd, Basgitaar-Zang, José IJzerman, Zang-Cajon, Marcel Muizelaar-Trompet, Erik Hofstede -Toetsen en Arrangementen. Hun programma: ‘Segret Garden Medley’ - delen uit de ‘Notenkrakers Suite’, ‘Bloemenduet’ uit Lakme, drie popnummers en de ‘Libertango’ van Piazzola</li><li>15:15 uur Harp, Esther Bos uit Vollenhove. Op haar programma staat muziek van onder anderen Kim Robertson, ‘De Pavane’ van G. Fauré en ‘The Kitchen Ragtime’ van Christoph Pamp.</li></ul><p>Toegang gratis&nbsp;</p>
LAST-MODIFIED:20260424T183801Z
LOCATION: Vollenhove, Mariakerk | Bisschopstraat 32 Steenwijkerland
SEQUENCE:0
STATUS:CONFIRMED
SUMMARY:Orgeldebuut 12-jarige Joas Jansen Open Monumentendag in Mariakerk Vollenhove
TRANSP:OPAQUE
END:VEVENT
END:VCALENDAR
