BEGIN:VCALENDAR
PRODID:-//PUBBLE//agenda//NL
VERSION:2.0
METHOD:PUBLISH
BEGIN:VEVENT
DTSTART:20251003T174041Z
DTEND:20251003T184041Z
DTSTAMP:20260425T183014Z
UID:7e095c12-1320-415d-9821-e3cb3dee0c84
CREATED:20260425T183014Z
NAME:Bibliotheek Vollenhove verrassend eindpunt historische stadswandeling deswollenaer.nl
X-WR-CALNAME:Bibliotheek Vollenhove verrassend eindpunt historische stadswandeling
X-ALT-DESC;FMTTYPE=text/html:<a href='/agenda/2025/10/18/bibliotheek-vollenhove-verrassend-eindpunt-historische-stadswandeling-344243'>/agenda/2025/10/18/bibliotheek-vollenhove-verrassend-eindpunt-historische-stadswandeling-344243</a> || <p>VOLLENHOVE - In het kader van de Maand van de Geschiedenis verzorgen het Stadsmuseum en de Bibliotheek Vollenhove op zaterdag 18 oktober 2025 vanaf 14.00 uur een historische stadswandeling met de verrassende expositie Nachtlicht &amp; Sterrenstof van Karin Rozenboom als eindpunt. </p><p>De stadswandeling van circa 5 kilometer voert onder andere langs Havezathe Marxveld, Palingrokerij Konter en Park Oldruitenborgh. De wandeling eindigt bij de Bibliotheek Vollenhove waar de deelnemers de expositie Nachtlicht &amp; Sterrenstof kunnen bewonderen. Met deze expositie – al vanaf 1 oktober 2025 beschikbaar - laat fotograaf Karin Rozenboom zien wat de camera in het donker ziet. Van de Melkweg tot lichtende nachtwolken, het Noorderlicht, vallende sterren en zeevonk.&nbsp;</p><p><strong>Aanmelden<br></strong>De stadswandeling start om 14.00 uur bij het Stadsmuseum, Bisschopstraat 36 in Vollenhove. Er is plek voor maximaal 25 personen. Leden van de Bibliotheek en donateurs van het Stadsmuseum betalen 2,50 euro, niet-leden en niet-donateurs 5 euro per persoon. Graag vooraf aanmelden via de website www.mijnbieb.nl/agenda of bij de Bibliotheek Vollenhove, telefoon: 0527-241999, mail: vollenhove@mijnbieb.nl.&nbsp;</p>
DESCRIPTION:<a href='/agenda/2025/10/18/bibliotheek-vollenhove-verrassend-eindpunt-historische-stadswandeling-344243'>/agenda/2025/10/18/bibliotheek-vollenhove-verrassend-eindpunt-historische-stadswandeling-344243</a> || <p>VOLLENHOVE - In het kader van de Maand van de Geschiedenis verzorgen het Stadsmuseum en de Bibliotheek Vollenhove op zaterdag 18 oktober 2025 vanaf 14.00 uur een historische stadswandeling met de verrassende expositie Nachtlicht &amp; Sterrenstof van Karin Rozenboom als eindpunt. </p><p>De stadswandeling van circa 5 kilometer voert onder andere langs Havezathe Marxveld, Palingrokerij Konter en Park Oldruitenborgh. De wandeling eindigt bij de Bibliotheek Vollenhove waar de deelnemers de expositie Nachtlicht &amp; Sterrenstof kunnen bewonderen. Met deze expositie – al vanaf 1 oktober 2025 beschikbaar - laat fotograaf Karin Rozenboom zien wat de camera in het donker ziet. Van de Melkweg tot lichtende nachtwolken, het Noorderlicht, vallende sterren en zeevonk.&nbsp;</p><p><strong>Aanmelden<br></strong>De stadswandeling start om 14.00 uur bij het Stadsmuseum, Bisschopstraat 36 in Vollenhove. Er is plek voor maximaal 25 personen. Leden van de Bibliotheek en donateurs van het Stadsmuseum betalen 2,50 euro, niet-leden en niet-donateurs 5 euro per persoon. Graag vooraf aanmelden via de website www.mijnbieb.nl/agenda of bij de Bibliotheek Vollenhove, telefoon: 0527-241999, mail: vollenhove@mijnbieb.nl.&nbsp;</p>
LAST-MODIFIED:20260425T183014Z
LOCATION: Vollenhove, Stadsmuseum | Bisschopstraat 36 Steenwijkerland
SEQUENCE:0
STATUS:CONFIRMED
SUMMARY:Bibliotheek Vollenhove verrassend eindpunt historische stadswandeling
TRANSP:OPAQUE
END:VEVENT
END:VCALENDAR
