BEGIN:VCALENDAR
PRODID:-//PUBBLE//agenda//NL
VERSION:2.0
METHOD:PUBLISH
BEGIN:VEVENT
DTSTART:20260129T123000Z
DTEND:20260129T143000Z
DTSTAMP:20260423T193845Z
UID:0a9aab9f-a153-410f-9d36-d6018c293a62
CREATED:20260423T193845Z
NAME:ANBO-PCOB IJsselmuiden deswollenaer.nl
X-WR-CALNAME:ANBO-PCOB IJsselmuiden
X-ALT-DESC;FMTTYPE=text/html:<a href='/agenda/2026/1/29/anbo-pcob-ijsselmuiden-352790'>/agenda/2026/1/29/anbo-pcob-ijsselmuiden-352790</a> || <p>Op donderdagmiddag 29 januari is de eerste contactmiddag van het nieuwe jaar. Zoals gewoonlijk wordt er Bingo gespeeld met vele prijsjes. Deelname is € 5,00 p.p. inclusief consumptie en versnaperingen. Iedereen is welkom in De Bron aan de Dijkgraafstraat te IJsselmuiden.</p><p>Inloop vanaf 14:00 uur.</p><p>Aanvang 14:30 - 16:30 uur.</p>
DESCRIPTION:<a href='/agenda/2026/1/29/anbo-pcob-ijsselmuiden-352790'>/agenda/2026/1/29/anbo-pcob-ijsselmuiden-352790</a> || <p>Op donderdagmiddag 29 januari is de eerste contactmiddag van het nieuwe jaar. Zoals gewoonlijk wordt er Bingo gespeeld met vele prijsjes. Deelname is € 5,00 p.p. inclusief consumptie en versnaperingen. Iedereen is welkom in De Bron aan de Dijkgraafstraat te IJsselmuiden.</p><p>Inloop vanaf 14:00 uur.</p><p>Aanvang 14:30 - 16:30 uur.</p>
LAST-MODIFIED:20260423T193845Z
LOCATION: De Bron | Dijkgraafstraat 4 IJsselmuiden
SEQUENCE:0
STATUS:CONFIRMED
SUMMARY:ANBO-PCOB IJsselmuiden
TRANSP:OPAQUE
END:VEVENT
END:VCALENDAR
