BEGIN:VCALENDAR
PRODID:-//PUBBLE//agenda//NL
VERSION:2.0
METHOD:PUBLISH
BEGIN:VEVENT
DTSTART:20260214T180000Z
DTEND:20260214T190000Z
DTSTAMP:20260420T201925Z
UID:6a146040-f93a-42f2-9593-c0aae12f3296
CREATED:20260420T201925Z
NAME:Valentijnsconcert in kerk Wapserveen deswollenaer.nl
X-WR-CALNAME:Valentijnsconcert in kerk Wapserveen
X-ALT-DESC;FMTTYPE=text/html:<a href='/agenda/2026/2/14/valentijnsconcert-in-kerk-wapserveen-353661'>/agenda/2026/2/14/valentijnsconcert-in-kerk-wapserveen-353661</a> || <p>Zaterdagavond 14 februari speelt het ensemble Les Musiciens een Valentijnsconcert in de Dorpskerk in Wapserveen.&nbsp;</p><p>Les Musiciens bestaat uit vier jonge musici: twee afkomstig uit Amerika, één uit Spanje en één uit Israel. Alle vier zijn ze afgestudeerd aan het Koninklijk Conservatorium in Den Haag. Nu zijn ze, zowel in Nederland als internationaal, werkzaam als uitvoerende musici en als docent.</p><p>De stukken die zij in dit concert spelen, zijn van componisten die het voorrecht hadden om in de zeer ruime slaapvertrekken van Louis de 14e te mogen componeren en te musiceren. Hun composities werden eerst in de intieme sfeer rond Louis XIV gespeeld en, soms pas jaren later, voor het brede publiek. Het publiek hoort ondermeer werken van Marin Marais, Michel Blavet, Louis-Nicolas Clérambault en Robert de Visée.</p><p>Het concert begint om 20.00 uur, de kerk gaat om 19.15 uur open. Na circa 40 minuten is er een pauze (met koffie of thee). Het concert duurt tot iets na 21.30 uur.<br /><br /> Kaarten:&nbsp;<a href="https://www.ticketkantoor.nl/shop/Musiciens" target="_blank">https://www.ticketkantoor.nl/shop/Musiciens</a>. U betaalt veilig via Ideal of Ideal|Wero. Na betaling krijgt u meteen uw ticket/entreebewijs in uw e-mailbox. Dat bewijs dient u op uw telefoon of op papier mee te nemen naar de uitvoering.&nbsp;</p><p>De organisatie van dit concert is in de vertrouwde handen van PodiumParel Westerveld. Zij heten u graag welkom bij dit concert.&nbsp;</p>
DESCRIPTION:<a href='/agenda/2026/2/14/valentijnsconcert-in-kerk-wapserveen-353661'>/agenda/2026/2/14/valentijnsconcert-in-kerk-wapserveen-353661</a> || <p>Zaterdagavond 14 februari speelt het ensemble Les Musiciens een Valentijnsconcert in de Dorpskerk in Wapserveen.&nbsp;</p><p>Les Musiciens bestaat uit vier jonge musici: twee afkomstig uit Amerika, één uit Spanje en één uit Israel. Alle vier zijn ze afgestudeerd aan het Koninklijk Conservatorium in Den Haag. Nu zijn ze, zowel in Nederland als internationaal, werkzaam als uitvoerende musici en als docent.</p><p>De stukken die zij in dit concert spelen, zijn van componisten die het voorrecht hadden om in de zeer ruime slaapvertrekken van Louis de 14e te mogen componeren en te musiceren. Hun composities werden eerst in de intieme sfeer rond Louis XIV gespeeld en, soms pas jaren later, voor het brede publiek. Het publiek hoort ondermeer werken van Marin Marais, Michel Blavet, Louis-Nicolas Clérambault en Robert de Visée.</p><p>Het concert begint om 20.00 uur, de kerk gaat om 19.15 uur open. Na circa 40 minuten is er een pauze (met koffie of thee). Het concert duurt tot iets na 21.30 uur.<br /><br /> Kaarten:&nbsp;<a href="https://www.ticketkantoor.nl/shop/Musiciens" target="_blank">https://www.ticketkantoor.nl/shop/Musiciens</a>. U betaalt veilig via Ideal of Ideal|Wero. Na betaling krijgt u meteen uw ticket/entreebewijs in uw e-mailbox. Dat bewijs dient u op uw telefoon of op papier mee te nemen naar de uitvoering.&nbsp;</p><p>De organisatie van dit concert is in de vertrouwde handen van PodiumParel Westerveld. Zij heten u graag welkom bij dit concert.&nbsp;</p>
LAST-MODIFIED:20260420T201925Z
LOCATION: Wapserveen, Dorpskerk | Oosteinde 31 Westerveld
SEQUENCE:0
STATUS:CONFIRMED
SUMMARY:Valentijnsconcert in kerk Wapserveen
TRANSP:OPAQUE
END:VEVENT
END:VCALENDAR
