BEGIN:VCALENDAR
PRODID:-//PUBBLE//agenda//NL
VERSION:2.0
METHOD:PUBLISH
BEGIN:VEVENT
DTSTART:20260131T111321Z
DTEND:20260209T191500Z
DTSTAMP:20260425T040552Z
UID:b6e29b10-e70b-45e1-8a42-be27339a7276
CREATED:20260425T040552Z
NAME:Ierse en Schotse folkmuziek van The Lasses bij Bibliotheek Diever deswollenaer.nl
X-WR-CALNAME:Ierse en Schotse folkmuziek van The Lasses bij Bibliotheek Diever
X-ALT-DESC;FMTTYPE=text/html:<a href='/agenda/2026/2/9/ierse-en-schotse-folkmuziek-van-the-lasses-bij-bibliotheek-diever-353831'>/agenda/2026/2/9/ierse-en-schotse-folkmuziek-van-the-lasses-bij-bibliotheek-diever-353831</a> || <p>DIEVER – Bibliotheek Diever ontvangt op maandag 9 februari het muzikale folkduo <em>The Lasses</em>. The Lasses combineren Ierse en Schotse folkmuziek met hun favoriete boeken. <br><br>Voor liefhebbers van alles wat te maken heeft met Ierland en het Verenigd Koninkrijk, van ouderwetse detectives en magische spookverhalen tot historische ridderromans, biedt de bibliotheek een bijzondere ervaring. The Lasses, bekend van tweestemmige interpretaties van Keltische folkballades, brengen een speciaal programma waarin muziek en literatuur samenkomen. Meeslepende harmonieën in prachtige ballads uit Schotland en Ierland vullen de ruimte; het geluid is zacht, zoet en melancholisch, geschikt voor luisterconcerten, intieme podia of akoestische settings. </p><p>Meer dan tien jaar samenwerking heeft geleid tot vijf albums en lovende kritieken, waaronder een 4-sterrenrecensie in de Volkskrant voor een verzameling Schotse folkliedjes. De intimiteit van hun optredens blijft behouden, ongeacht de locatie: van grote festivalpodia en lichte concertzalen tot historische folkclubs en huiskamers.</p><p><strong>Aanmelden</strong><br>Iedereen is van harte welkom van 19.30 tot 21.15 uur. Kaarten á € 7,50 zijn <em>vooraf&nbsp;</em>online te bestellen via <u><a data-auth="NotApplicable" data-linkindex="4" href="https://eur05.safelinks.protection.outlook.com/?url=https%3A%2F%2Fbind.op-shop.nl%2F695%2Fthe-lasses-boeken-en-ballades&amp;data=05%7C02%7Credactiedekop%40brugmedia.nl%7C6a9efd63dc914bdd7ecc08de60001020%7C4669640fc8c34bc3b70c500db01fdff4%7C0%7C0%7C639053750881475162%7CUnknown%7CTWFpbGZsb3d8eyJFbXB0eU1hcGkiOnRydWUsIlYiOiIwLjAuMDAwMCIsIlAiOiJXaW4zMiIsIkFOIjoiTWFpbCIsIldUIjoyfQ%3D%3D%7C80000%7C%7C%7C&amp;sdata=WFCjPC2iDN92L0y%2Ff9QREq1n%2FcY9fTlkyWVetcZh0ls%3D&amp;reserved=0" rel="noopener noreferrer" target="_blank" title="Originele URL: https://bind.op-shop.nl/695/the-lasses-boeken-en-ballades. Klik of tik als u deze koppeling vertrouwt.">bibliotheekdiever.nl</a></u>. Ook reserveren aan de balie van de bibliotheek is mogelijk. Lidmaatschap van de bibliotheek is niet vereist.</p>
DESCRIPTION:<a href='/agenda/2026/2/9/ierse-en-schotse-folkmuziek-van-the-lasses-bij-bibliotheek-diever-353831'>/agenda/2026/2/9/ierse-en-schotse-folkmuziek-van-the-lasses-bij-bibliotheek-diever-353831</a> || <p>DIEVER – Bibliotheek Diever ontvangt op maandag 9 februari het muzikale folkduo <em>The Lasses</em>. The Lasses combineren Ierse en Schotse folkmuziek met hun favoriete boeken. <br><br>Voor liefhebbers van alles wat te maken heeft met Ierland en het Verenigd Koninkrijk, van ouderwetse detectives en magische spookverhalen tot historische ridderromans, biedt de bibliotheek een bijzondere ervaring. The Lasses, bekend van tweestemmige interpretaties van Keltische folkballades, brengen een speciaal programma waarin muziek en literatuur samenkomen. Meeslepende harmonieën in prachtige ballads uit Schotland en Ierland vullen de ruimte; het geluid is zacht, zoet en melancholisch, geschikt voor luisterconcerten, intieme podia of akoestische settings. </p><p>Meer dan tien jaar samenwerking heeft geleid tot vijf albums en lovende kritieken, waaronder een 4-sterrenrecensie in de Volkskrant voor een verzameling Schotse folkliedjes. De intimiteit van hun optredens blijft behouden, ongeacht de locatie: van grote festivalpodia en lichte concertzalen tot historische folkclubs en huiskamers.</p><p><strong>Aanmelden</strong><br>Iedereen is van harte welkom van 19.30 tot 21.15 uur. Kaarten á € 7,50 zijn <em>vooraf&nbsp;</em>online te bestellen via <u><a data-auth="NotApplicable" data-linkindex="4" href="https://eur05.safelinks.protection.outlook.com/?url=https%3A%2F%2Fbind.op-shop.nl%2F695%2Fthe-lasses-boeken-en-ballades&amp;data=05%7C02%7Credactiedekop%40brugmedia.nl%7C6a9efd63dc914bdd7ecc08de60001020%7C4669640fc8c34bc3b70c500db01fdff4%7C0%7C0%7C639053750881475162%7CUnknown%7CTWFpbGZsb3d8eyJFbXB0eU1hcGkiOnRydWUsIlYiOiIwLjAuMDAwMCIsIlAiOiJXaW4zMiIsIkFOIjoiTWFpbCIsIldUIjoyfQ%3D%3D%7C80000%7C%7C%7C&amp;sdata=WFCjPC2iDN92L0y%2Ff9QREq1n%2FcY9fTlkyWVetcZh0ls%3D&amp;reserved=0" rel="noopener noreferrer" target="_blank" title="Originele URL: https://bind.op-shop.nl/695/the-lasses-boeken-en-ballades. Klik of tik als u deze koppeling vertrouwt.">bibliotheekdiever.nl</a></u>. Ook reserveren aan de balie van de bibliotheek is mogelijk. Lidmaatschap van de bibliotheek is niet vereist.</p>
LAST-MODIFIED:20260425T040552Z
LOCATION: Diever, Bibliotheek | Dingspil 10 Westerveld
SEQUENCE:0
STATUS:CONFIRMED
SUMMARY:Ierse en Schotse folkmuziek van The Lasses bij Bibliotheek Diever
TRANSP:OPAQUE
END:VEVENT
END:VCALENDAR
