BEGIN:VCALENDAR
PRODID:-//PUBBLE//agenda//NL
VERSION:2.0
METHOD:PUBLISH
BEGIN:VEVENT
DTSTART:20260421T173000Z
DTEND:20260421T193000Z
DTSTAMP:20260420T033917Z
UID:fedc636a-7906-49ca-9c66-9634fed1a781
CREATED:20260420T033917Z
NAME:Hoe gaat het met jou, IJssel? deswollenaer.nl
X-WR-CALNAME:Hoe gaat het met jou, IJssel?
X-ALT-DESC;FMTTYPE=text/html:<a href='/agenda/2026/4/21/hoe-gaat-het-met-jou-ijssel--359693'>/agenda/2026/4/21/hoe-gaat-het-met-jou-ijssel--359693</a> || <p>Op deze bijzondere avond laten we de rivier zelf aan het woord. Of beter gezegd: Wim Eikelboom&nbsp;geeft namens de IJssel stem aan haar verhaal. Velen kennen hem van zijn boeiende presentaties en zijn grote kennis van de rivier en alles wat zich langs haar oevers afspeelt. Met passie en betrokkenheid neemt hij ons mee in verleden, heden en toekomst van deze levensader van onze regio.</p><p>U bent van harte uitgenodigd om deze avond mee te beleven</p>
DESCRIPTION:<a href='/agenda/2026/4/21/hoe-gaat-het-met-jou-ijssel--359693'>/agenda/2026/4/21/hoe-gaat-het-met-jou-ijssel--359693</a> || <p>Op deze bijzondere avond laten we de rivier zelf aan het woord. Of beter gezegd: Wim Eikelboom&nbsp;geeft namens de IJssel stem aan haar verhaal. Velen kennen hem van zijn boeiende presentaties en zijn grote kennis van de rivier en alles wat zich langs haar oevers afspeelt. Met passie en betrokkenheid neemt hij ons mee in verleden, heden en toekomst van deze levensader van onze regio.</p><p>U bent van harte uitgenodigd om deze avond mee te beleven</p>
LAST-MODIFIED:20260420T033917Z
LOCATION: Open Kring | Hofstedestraat  1 Zwolle
SEQUENCE:0
STATUS:CONFIRMED
SUMMARY:Hoe gaat het met jou, IJssel?
TRANSP:OPAQUE
END:VEVENT
END:VCALENDAR
