BEGIN:VCALENDAR
PRODID:-//PUBBLE//agenda//NL
VERSION:2.0
METHOD:PUBLISH
BEGIN:VEVENT
DTSTART:20260413T080000Z
DTEND:20260413T090000Z
DTSTAMP:20260420T144412Z
UID:e796816d-0b56-4d38-ad7b-8bcd5ec493a0
CREATED:20260420T144412Z
NAME:QR-Fit; beweeggroep voor senioren deswollenaer.nl
X-WR-CALNAME:QR-Fit; beweeggroep voor senioren
X-ALT-DESC;FMTTYPE=text/html:<a href='/agenda/2026/4/13/qr-fit-beweeggroep-voor-senioren-359815'>/agenda/2026/4/13/qr-fit-beweeggroep-voor-senioren-359815</a> || <p>O.b.v. een beweegcoach maken deelnemers samen een wandeling en doen zij oefeningen voor balans, kracht en vitaliteit. Deelname is gratis.</p><p>Aanmelden via de QR-code of via <a href="https://qr-fit.nl/gemeente/zeewolde" title="https://qr-fit.nl/gemeente/zeewolde" target="_blank">qr-fit.nl/gemeente/zeewolde</a>  </p>
DESCRIPTION:<a href='/agenda/2026/4/13/qr-fit-beweeggroep-voor-senioren-359815'>/agenda/2026/4/13/qr-fit-beweeggroep-voor-senioren-359815</a> || <p>O.b.v. een beweegcoach maken deelnemers samen een wandeling en doen zij oefeningen voor balans, kracht en vitaliteit. Deelname is gratis.</p><p>Aanmelden via de QR-code of via <a href="https://qr-fit.nl/gemeente/zeewolde" title="https://qr-fit.nl/gemeente/zeewolde" target="_blank">qr-fit.nl/gemeente/zeewolde</a>  </p>
LAST-MODIFIED:20260420T144412Z
LOCATION: De Meermin | Kerkplein 20 Zeewolde
SEQUENCE:0
STATUS:CONFIRMED
SUMMARY:QR-Fit; beweeggroep voor senioren
TRANSP:OPAQUE
END:VEVENT
END:VCALENDAR
