BEGIN:VCALENDAR
PRODID:-//PUBBLE//agenda//NL
VERSION:2.0
METHOD:PUBLISH
BEGIN:VEVENT
DTSTART:20260422T120000Z
DTEND:20260422T140000Z
DTSTAMP:20260421T125213Z
UID:6c5bd32d-2eaa-46d1-9453-7027a97a9a0a
CREATED:20260421T125213Z
NAME:Creatief Natuurlab deswollenaer.nl
X-WR-CALNAME:Creatief Natuurlab
X-ALT-DESC;FMTTYPE=text/html:<a href='/agenda/2026/4/22/creatief-natuurlab-359862'>/agenda/2026/4/22/creatief-natuurlab-359862</a> || <p>Woensdag 22 april is het Creatief Natuurlab in de Nooterhof geopend en kunnen kinderen tussen 4 en12 jaar komen knutselen met dingen uit de natuur. Creativiteit en zelf ontdekken en experimenteren staat voorop. Toegang is gratis, vrije inloop tussen 14.00 en 16.00 uur.&nbsp;</p><p>Meer informatie over deze en andere activiteiten kijk op <a href="//www.nooterhof.nl/activiteiten">www.nooterhof.nl/activiteiten</a> en houd onze socials in de gaten.&nbsp;</p>
DESCRIPTION:<a href='/agenda/2026/4/22/creatief-natuurlab-359862'>/agenda/2026/4/22/creatief-natuurlab-359862</a> || <p>Woensdag 22 april is het Creatief Natuurlab in de Nooterhof geopend en kunnen kinderen tussen 4 en12 jaar komen knutselen met dingen uit de natuur. Creativiteit en zelf ontdekken en experimenteren staat voorop. Toegang is gratis, vrije inloop tussen 14.00 en 16.00 uur.&nbsp;</p><p>Meer informatie over deze en andere activiteiten kijk op <a href="//www.nooterhof.nl/activiteiten">www.nooterhof.nl/activiteiten</a> en houd onze socials in de gaten.&nbsp;</p>
LAST-MODIFIED:20260421T125213Z
LOCATION: De Nooterhof | Goertjesweg 1 Zwolle
SEQUENCE:0
STATUS:CONFIRMED
SUMMARY:Creatief Natuurlab
TRANSP:OPAQUE
END:VEVENT
END:VCALENDAR
