BEGIN:VCALENDAR
PRODID:-//PUBBLE//agenda//NL
VERSION:2.0
METHOD:PUBLISH
BEGIN:VEVENT
DTSTART:20260423T080000Z
DTEND:20260423T090000Z
DTSTAMP:20260422T133748Z
UID:a002936f-b816-4ae9-a678-bb09cbfa5609
CREATED:20260422T133748Z
NAME:Kleine beestjes Verwondertocht deswollenaer.nl
X-WR-CALNAME:Kleine beestjes Verwondertocht
X-ALT-DESC;FMTTYPE=text/html:<a href='/agenda/2026/4/23/kleine-beestjes-verwondertocht-359873'>/agenda/2026/4/23/kleine-beestjes-verwondertocht-359873</a> || <p>Ga mee op zoek naar kleine beestjes. Wie weet vliegt er een libelle voorbij, kruipt er een mooie rups tussen de plantjes of kriebelt er een pissebed onder een boomstam. Elke keer is het weer een verrassing welke beestjes zich laten zien. Voor kinderen van 4 - 7 jaar. Dit is een gratis activiteit, wel graag vooraf aanmelden via <a href="mailto:educatie@nooterhof.nl">educatie@nooterhof.nl</a>.</p>
DESCRIPTION:<a href='/agenda/2026/4/23/kleine-beestjes-verwondertocht-359873'>/agenda/2026/4/23/kleine-beestjes-verwondertocht-359873</a> || <p>Ga mee op zoek naar kleine beestjes. Wie weet vliegt er een libelle voorbij, kruipt er een mooie rups tussen de plantjes of kriebelt er een pissebed onder een boomstam. Elke keer is het weer een verrassing welke beestjes zich laten zien. Voor kinderen van 4 - 7 jaar. Dit is een gratis activiteit, wel graag vooraf aanmelden via <a href="mailto:educatie@nooterhof.nl">educatie@nooterhof.nl</a>.</p>
LAST-MODIFIED:20260422T133748Z
LOCATION: De Nooterhof | Goertjesweg 1 Zwolle
SEQUENCE:0
STATUS:CONFIRMED
SUMMARY:Kleine beestjes Verwondertocht
TRANSP:OPAQUE
END:VEVENT
END:VCALENDAR
