BEGIN:VCALENDAR
PRODID:-//PUBBLE//agenda//NL
VERSION:2.0
METHOD:PUBLISH
BEGIN:VEVENT
DTSTART:20260423T170000Z
DTEND:20260423T183000Z
DTSTAMP:20260423T112716Z
UID:087d5399-5772-49b7-97c1-67507c91dbd2
CREATED:20260423T112716Z
NAME:Café Parlant van de Alliance Française Zwolle deswollenaer.nl
X-WR-CALNAME:Café Parlant van de Alliance Française Zwolle
X-ALT-DESC;FMTTYPE=text/html:<a href='/agenda/2026/4/23/cafe-parlant-van-de-alliance-francaise-zwolle-360082'>/agenda/2026/4/23/cafe-parlant-van-de-alliance-francaise-zwolle-360082</a> || <p>Wie zijn of haar Frans wil oefenen in een ontspannen sfeer, is op donderdag 23 april om 19.00 uur welkom bij het Café Parlant in Café De Gezelligheid aan het Gasthuisplein 11.</p><p>De bijeenkomst vindt plaats in de bovenzaal en staat open voor iedereen, ongeacht het taalniveau. Aanmelden voor Café Parlant is niet nodig. &nbsp;Meer informatie over de Alliance Française is te vinden op www.alliance-francaise.nl/zwolle</p>
DESCRIPTION:<a href='/agenda/2026/4/23/cafe-parlant-van-de-alliance-francaise-zwolle-360082'>/agenda/2026/4/23/cafe-parlant-van-de-alliance-francaise-zwolle-360082</a> || <p>Wie zijn of haar Frans wil oefenen in een ontspannen sfeer, is op donderdag 23 april om 19.00 uur welkom bij het Café Parlant in Café De Gezelligheid aan het Gasthuisplein 11.</p><p>De bijeenkomst vindt plaats in de bovenzaal en staat open voor iedereen, ongeacht het taalniveau. Aanmelden voor Café Parlant is niet nodig. &nbsp;Meer informatie over de Alliance Française is te vinden op www.alliance-francaise.nl/zwolle</p>
LAST-MODIFIED:20260423T112716Z
LOCATION: Café De Gezelligheid | Gasthuisplein 11 Zwolle
SEQUENCE:0
STATUS:CONFIRMED
SUMMARY:Café Parlant van de Alliance Française Zwolle
TRANSP:OPAQUE
END:VEVENT
END:VCALENDAR
