BEGIN:VCALENDAR
PRODID:-//PUBBLE//agenda//NL
VERSION:2.0
METHOD:PUBLISH
BEGIN:VEVENT
DTSTART:20260421T170000Z
DTEND:20260421T175000Z
DTSTAMP:20260420T033641Z
UID:639106a5-d1a7-4126-9c69-2a7a9a23b8b0
CREATED:20260420T033641Z
NAME:De Vegan Veehouder deswollenaer.nl
X-WR-CALNAME:De Vegan Veehouder
X-ALT-DESC;FMTTYPE=text/html:<a href='/agenda/2026/4/21/de-vegan-veehouder-360190'>/agenda/2026/4/21/de-vegan-veehouder-360190</a> || <p>Kun je kippenhouder en vegan tegelijk zijn? Filmmaker Kadir van Lohuizen volgt in deze documentaire Kipster oprichter Ruud Zanders in zijn persoonlijke dilemma’s. www.filmtheaterfraterhuis.nl</p>
DESCRIPTION:<a href='/agenda/2026/4/21/de-vegan-veehouder-360190'>/agenda/2026/4/21/de-vegan-veehouder-360190</a> || <p>Kun je kippenhouder en vegan tegelijk zijn? Filmmaker Kadir van Lohuizen volgt in deze documentaire Kipster oprichter Ruud Zanders in zijn persoonlijke dilemma’s. www.filmtheaterfraterhuis.nl</p>
LAST-MODIFIED:20260420T033641Z
LOCATION: Filmtheater Fraterhuis | Blijmarkt 25 Zwolle
SEQUENCE:0
STATUS:CONFIRMED
SUMMARY:De Vegan Veehouder
TRANSP:OPAQUE
END:VEVENT
END:VCALENDAR
