BEGIN:VCALENDAR
PRODID:-//PUBBLE//agenda//NL
VERSION:2.0
METHOD:PUBLISH
BEGIN:VEVENT
DTSTART:20260414T080026Z
DTEND:20260425T130000Z
DTSTAMP:20260424T140427Z
UID:8f58b5b6-74cf-4dc4-afb6-174a60934729
CREATED:20260424T140427Z
NAME:Postzegelbeurs deswollenaer.nl
X-WR-CALNAME:Postzegelbeurs
X-ALT-DESC;FMTTYPE=text/html:<a href='/agenda/2026/4/25/postzegelbeurs-360259'>/agenda/2026/4/25/postzegelbeurs-360259</a> || <p>binnenlopen, hun collectie laten taxeren en een gratis insteekboek met postzegels ophalen. Bezoekers kunnen snuffelen tussen de tafels, op zoek naar ontbrekende exemplaren en in contact komen met mede-verzamelaars.</p>
DESCRIPTION:<a href='/agenda/2026/4/25/postzegelbeurs-360259'>/agenda/2026/4/25/postzegelbeurs-360259</a> || <p>binnenlopen, hun collectie laten taxeren en een gratis insteekboek met postzegels ophalen. Bezoekers kunnen snuffelen tussen de tafels, op zoek naar ontbrekende exemplaren en in contact komen met mede-verzamelaars.</p>
LAST-MODIFIED:20260424T140427Z
LOCATION: Domusica Zwolle | Radewijnsstraat 10 Zwolle
SEQUENCE:0
STATUS:CONFIRMED
SUMMARY:Postzegelbeurs
TRANSP:OPAQUE
END:VEVENT
END:VCALENDAR
