BEGIN:VCALENDAR
PRODID:-//PUBBLE//agenda//NL
VERSION:2.0
METHOD:PUBLISH
BEGIN:VEVENT
DTSTART:20260425T080000Z
DTEND:20260425T130000Z
DTSTAMP:20260424T141021Z
UID:e2c15036-5a98-4599-b075-b43fd32aa7d1
CREATED:20260424T141021Z
NAME:Zwolse postzegelbeurs: Postzegels zijn weer hip deswollenaer.nl
X-WR-CALNAME:Zwolse postzegelbeurs: Postzegels zijn weer hip
X-ALT-DESC;FMTTYPE=text/html:<a href='/agenda/2026/4/25/zwolse-postzegelbeurs-postzegels-zijn-weer-hip-360275'>/agenda/2026/4/25/zwolse-postzegelbeurs-postzegels-zijn-weer-hip-360275</a> || <p>Met nieuwe, energieke leiding brengen we de Zwolse postzegelbeurs samen met jullie, de verzamelaars, weer helemaal terug op de kaart.Lekker grasduinen tussen de tafels, schatgraven naar ontbrekende parels en je manco’s aanvullen.Mede-verzamelaars ontmoeten en gezellig info uitwisselen</p><p>Gratis entree – inclusief een gratis insteekboek vol postzegels (maar op=op) én een gratis taxatie van je verzameling.</p><p>25 april 2026 Domusica, Radewijnstraat 10, Zwolle · 10:00-15:00 uur Kom langs en ontdek het zelf!</p>
DESCRIPTION:<a href='/agenda/2026/4/25/zwolse-postzegelbeurs-postzegels-zijn-weer-hip-360275'>/agenda/2026/4/25/zwolse-postzegelbeurs-postzegels-zijn-weer-hip-360275</a> || <p>Met nieuwe, energieke leiding brengen we de Zwolse postzegelbeurs samen met jullie, de verzamelaars, weer helemaal terug op de kaart.Lekker grasduinen tussen de tafels, schatgraven naar ontbrekende parels en je manco’s aanvullen.Mede-verzamelaars ontmoeten en gezellig info uitwisselen</p><p>Gratis entree – inclusief een gratis insteekboek vol postzegels (maar op=op) én een gratis taxatie van je verzameling.</p><p>25 april 2026 Domusica, Radewijnstraat 10, Zwolle · 10:00-15:00 uur Kom langs en ontdek het zelf!</p>
LAST-MODIFIED:20260424T141021Z
LOCATION: Domusica | Radewijnsstraat 10 Zwolle
SEQUENCE:0
STATUS:CONFIRMED
SUMMARY:Zwolse postzegelbeurs: Postzegels zijn weer hip
TRANSP:OPAQUE
END:VEVENT
END:VCALENDAR
