BEGIN:VCALENDAR
PRODID:-//PUBBLE//agenda//NL
VERSION:2.0
METHOD:PUBLISH
BEGIN:VEVENT
DTSTART:20260425T090000Z
DTEND:20260425T140000Z
DTSTAMP:20260425T130443Z
UID:649e67a3-a701-4bb9-ab01-29440146cd62
CREATED:20260425T130443Z
NAME:Speciale kledingmarkt bij Stichting Kringloop Zwolle; kleding met potent deswollenaer.nl
X-WR-CALNAME:Speciale kledingmarkt bij Stichting Kringloop Zwolle; kleding met potent
X-ALT-DESC;FMTTYPE=text/html:<a href='/agenda/2026/4/25/speciale-kledingmarkt-bij-stichting-kringloop-zwolle-kleding-met-potent-360295'>/agenda/2026/4/25/speciale-kledingmarkt-bij-stichting-kringloop-zwolle-kleding-met-potent-360295</a> || <p>Stichting Kringloop Zwolle organiseert op zaterdag 25 april een kledingmarkt op de parkeerplaats van de kringloopwinkel aan de Nieuwe Veerallee 12. Van 11.00 tot 16.00 uur worden er kledingstukken en accessoires verkocht tegen een zeer lage prijs. </p>
DESCRIPTION:<a href='/agenda/2026/4/25/speciale-kledingmarkt-bij-stichting-kringloop-zwolle-kleding-met-potent-360295'>/agenda/2026/4/25/speciale-kledingmarkt-bij-stichting-kringloop-zwolle-kleding-met-potent-360295</a> || <p>Stichting Kringloop Zwolle organiseert op zaterdag 25 april een kledingmarkt op de parkeerplaats van de kringloopwinkel aan de Nieuwe Veerallee 12. Van 11.00 tot 16.00 uur worden er kledingstukken en accessoires verkocht tegen een zeer lage prijs. </p>
LAST-MODIFIED:20260425T130443Z
LOCATION: Stichting Kringloop Zwolle | Ceintuurbaan 48 Zwolle
SEQUENCE:0
STATUS:CONFIRMED
SUMMARY:Speciale kledingmarkt bij Stichting Kringloop Zwolle; kleding met potent
TRANSP:OPAQUE
END:VEVENT
END:VCALENDAR
