BEGIN:VCALENDAR
PRODID:-//PUBBLE//agenda//NL
VERSION:2.0
METHOD:PUBLISH
BEGIN:VEVENT
DTSTART:20260424T174500Z
DTEND:20260424T201500Z
DTSTAMP:20260424T141145Z
UID:40d64e05-986a-45f0-9bdc-2e014a35d372
CREATED:20260424T141145Z
NAME:PeperDus, Uitzending gemist en Excuses spelen improvisatietheater deswollenaer.nl
X-WR-CALNAME:PeperDus, Uitzending gemist en Excuses spelen improvisatietheater
X-ALT-DESC;FMTTYPE=text/html:<a href='/agenda/2026/4/24/peperdus-uitzending-gemist-en-excuses-spelen-improvisatietheater-360360'>/agenda/2026/4/24/peperdus-uitzending-gemist-en-excuses-spelen-improvisatietheater-360360</a> || <p>Op 24 april spelen PeperDus, Uitzending gemist en Excuses voor het ongemak improvisatietheater voor de Zwolse Impro Cup. Verrassend, hilarisch, soms ontroerend en altijd ter plekke ontstaan. De voorstelling begint om 19:45 uur in het Joseph Wresinski Theater aan de Floresstraat 21 in Zwolle, foyer open vanaf 19:15 uur. De entree is 6,95 maar meer of minder mag ook. Zo draag jij bij aan het toegankelijk en betaalbaar houden voor iedereen. Tickets: https://impro-zwolle.nl</p>
DESCRIPTION:<a href='/agenda/2026/4/24/peperdus-uitzending-gemist-en-excuses-spelen-improvisatietheater-360360'>/agenda/2026/4/24/peperdus-uitzending-gemist-en-excuses-spelen-improvisatietheater-360360</a> || <p>Op 24 april spelen PeperDus, Uitzending gemist en Excuses voor het ongemak improvisatietheater voor de Zwolse Impro Cup. Verrassend, hilarisch, soms ontroerend en altijd ter plekke ontstaan. De voorstelling begint om 19:45 uur in het Joseph Wresinski Theater aan de Floresstraat 21 in Zwolle, foyer open vanaf 19:15 uur. De entree is 6,95 maar meer of minder mag ook. Zo draag jij bij aan het toegankelijk en betaalbaar houden voor iedereen. Tickets: https://impro-zwolle.nl</p>
LAST-MODIFIED:20260424T141145Z
LOCATION: Joseph Wresinsky Theater | Floresstraat 21 21 Zwolle
SEQUENCE:0
STATUS:CONFIRMED
SUMMARY:PeperDus, Uitzending gemist en Excuses spelen improvisatietheater
TRANSP:OPAQUE
END:VEVENT
END:VCALENDAR
