BEGIN:VCALENDAR
PRODID:-//PUBBLE//agenda//NL
VERSION:2.0
METHOD:PUBLISH
BEGIN:VEVENT
DTSTART:20260425T120000Z
DTEND:20260425T140000Z
DTSTAMP:20260425T130443Z
UID:e04a0027-23fd-4bcb-b71b-88e01a4efcc8
CREATED:20260425T130443Z
NAME:Koningsdagvoorpret bij Theehuis De Oude Mars deswollenaer.nl
X-WR-CALNAME:Koningsdagvoorpret bij Theehuis De Oude Mars
X-ALT-DESC;FMTTYPE=text/html:<a href='/agenda/2026/4/25/koningsdagvoorpret-bij-theehuis-de-oude-mars-360387'>/agenda/2026/4/25/koningsdagvoorpret-bij-theehuis-de-oude-mars-360387</a> || <p>Op zaterdag 25 april ben je van 14:00–16:00 uur welkom bij De Oude Mars voor gezellige Koningsdagsvoorpret. Geniet van een optreden van de Vrouwen van de Kruushoek uit Elburg met vrolijke liedjes en gedichtjes. Voor jong en oud zijn er Oud-Hollandse spelletjes. Kom langs, ontmoet buurtgenoten en neem gerust vrienden, buren of familie mee. Samen maken we er een warme, feestelijke middag van! &nbsp;</p>
DESCRIPTION:<a href='/agenda/2026/4/25/koningsdagvoorpret-bij-theehuis-de-oude-mars-360387'>/agenda/2026/4/25/koningsdagvoorpret-bij-theehuis-de-oude-mars-360387</a> || <p>Op zaterdag 25 april ben je van 14:00–16:00 uur welkom bij De Oude Mars voor gezellige Koningsdagsvoorpret. Geniet van een optreden van de Vrouwen van de Kruushoek uit Elburg met vrolijke liedjes en gedichtjes. Voor jong en oud zijn er Oud-Hollandse spelletjes. Kom langs, ontmoet buurtgenoten en neem gerust vrienden, buren of familie mee. Samen maken we er een warme, feestelijke middag van! &nbsp;</p>
LAST-MODIFIED:20260425T130443Z
LOCATION: De Oude Mars | De Mars 19 Zwolle
SEQUENCE:0
STATUS:CONFIRMED
SUMMARY:Koningsdagvoorpret bij Theehuis De Oude Mars
TRANSP:OPAQUE
END:VEVENT
END:VCALENDAR
