BEGIN:VCALENDAR
PRODID:-//PUBBLE//agenda//NL
VERSION:2.0
METHOD:PUBLISH
BEGIN:VEVENT
DTSTART:20260425T080000Z
DTEND:20260425T133000Z
DTSTAMP:20260424T140737Z
UID:43c9c939-f6d4-4b6f-899d-6caf6ece43c7
CREATED:20260424T140737Z
NAME:WEI*blij ZAAI deswollenaer.nl
X-WR-CALNAME:WEI*blij ZAAI
X-ALT-DESC;FMTTYPE=text/html:<a href='/agenda/2026/4/25/wei-blij-zaai-360570'>/agenda/2026/4/25/wei-blij-zaai-360570</a> || <p>Groene POLDER experience.</p><p>Kom naar ZAAI, de zaden en plantenmarkt in de WEI van boerderij de Zuiderkrib. 25 standhouders van voedselbos planten, bijzondere zaden en pluktuin planten. Zelfgekweekte planten voor je achtertuin. Doe boodschappen bij de boer, haal bio moestuin plantjes en volg een van de workshops. Kleifiguren maken met bloemenzaad, ga mee op wildpluk over het erf ef maak je eigen schoonheidsproduct.</p><p>Voor de kinderen: wie kweekt de grootste reuze pompoen.</p><p>Tot ZAAI</p>
DESCRIPTION:<a href='/agenda/2026/4/25/wei-blij-zaai-360570'>/agenda/2026/4/25/wei-blij-zaai-360570</a> || <p>Groene POLDER experience.</p><p>Kom naar ZAAI, de zaden en plantenmarkt in de WEI van boerderij de Zuiderkrib. 25 standhouders van voedselbos planten, bijzondere zaden en pluktuin planten. Zelfgekweekte planten voor je achtertuin. Doe boodschappen bij de boer, haal bio moestuin plantjes en volg een van de workshops. Kleifiguren maken met bloemenzaad, ga mee op wildpluk over het erf ef maak je eigen schoonheidsproduct.</p><p>Voor de kinderen: wie kweekt de grootste reuze pompoen.</p><p>Tot ZAAI</p>
LAST-MODIFIED:20260424T140737Z
LOCATION: Kraggenburg, De Zuiderkrib | Zwartemeerweg  62 Noordoostpolder
SEQUENCE:0
STATUS:CONFIRMED
SUMMARY:WEI*blij ZAAI
TRANSP:OPAQUE
END:VEVENT
END:VCALENDAR
