BEGIN:VCALENDAR
PRODID:-//PUBBLE//agenda//NL
VERSION:2.0
METHOD:PUBLISH
BEGIN:VEVENT
DTSTART:20260417T131213Z
DTEND:20260425T150000Z
DTSTAMP:20260425T130019Z
UID:5e2fc5be-2645-4af6-b3d7-8786183d99ea
CREATED:20260425T130019Z
NAME:Gezellige middag stichting Pelita deswollenaer.nl
X-WR-CALNAME:Gezellige middag stichting Pelita
X-ALT-DESC;FMTTYPE=text/html:<a href='/agenda/2026/4/25/gezellige-middag-stichting-pelita-360609'>/agenda/2026/4/25/gezellige-middag-stichting-pelita-360609</a> || <p>Met muziek van John Less, optreden van keroncongorkest Swara Pusaka, spreekuur Pelta, bingo, aanwezigheid maatjesproject Gotong Royong en een Indische catering.</p>
DESCRIPTION:<a href='/agenda/2026/4/25/gezellige-middag-stichting-pelita-360609'>/agenda/2026/4/25/gezellige-middag-stichting-pelita-360609</a> || <p>Met muziek van John Less, optreden van keroncongorkest Swara Pusaka, spreekuur Pelta, bingo, aanwezigheid maatjesproject Gotong Royong en een Indische catering.</p>
LAST-MODIFIED:20260425T130019Z
LOCATION: Wijkcentrum Holtenbroek | Bachlaan 20 Zwolle
SEQUENCE:0
STATUS:CONFIRMED
SUMMARY:Gezellige middag stichting Pelita
TRANSP:OPAQUE
END:VEVENT
END:VCALENDAR
