BEGIN:VCALENDAR
PRODID:-//PUBBLE//agenda//NL
VERSION:2.0
METHOD:PUBLISH
BEGIN:VEVENT
DTSTART:20260423T174500Z
DTEND:20260423T201500Z
DTSTAMP:20260423T112311Z
UID:3fe05c2e-f426-43db-a013-f5d6254db8dd
CREATED:20260423T112311Z
NAME:Silent Friend deswollenaer.nl
X-WR-CALNAME:Silent Friend
X-ALT-DESC;FMTTYPE=text/html:<a href='/agenda/2026/4/23/silent-friend-360819'>/agenda/2026/4/23/silent-friend-360819</a> || <p>Poëtisch en teder drieluik dat zich afspeelt rondom een eeuwenoude boom, die door de jaren heen stille getuige is van de mens en zijn bezigheden. www.filmtheaterfraterhuis.nl</p>
DESCRIPTION:<a href='/agenda/2026/4/23/silent-friend-360819'>/agenda/2026/4/23/silent-friend-360819</a> || <p>Poëtisch en teder drieluik dat zich afspeelt rondom een eeuwenoude boom, die door de jaren heen stille getuige is van de mens en zijn bezigheden. www.filmtheaterfraterhuis.nl</p>
LAST-MODIFIED:20260423T112311Z
LOCATION: Filmtheater Fraterhuis | Blijmarkt 25 Zwolle
SEQUENCE:0
STATUS:CONFIRMED
SUMMARY:Silent Friend
TRANSP:OPAQUE
END:VEVENT
END:VCALENDAR
