BEGIN:VCALENDAR
PRODID:-//PUBBLE//agenda//NL
VERSION:2.0
METHOD:PUBLISH
BEGIN:VEVENT
DTSTART:20260424T191000Z
DTEND:20260426T105800Z
DTSTAMP:20260424T141053Z
UID:a1c97d7a-f5ed-4b09-9a3e-9aebe740167e
CREATED:20260424T141053Z
NAME:Truly Naked deswollenaer.nl
X-WR-CALNAME:Truly Naked
X-ALT-DESC;FMTTYPE=text/html:<a href='/agenda/2026/4/24/truly-naked-360821'>/agenda/2026/4/24/truly-naked-360821</a> || <p>Spraakmakend speelfilmdebuut van Muriel d’Ansembourg over een introverte tiener die door een klasgenote uitgedaagd wordt om echte intimiteit aan te gaan. www.filmtheaterfraterhuis.nl</p>
DESCRIPTION:<a href='/agenda/2026/4/24/truly-naked-360821'>/agenda/2026/4/24/truly-naked-360821</a> || <p>Spraakmakend speelfilmdebuut van Muriel d’Ansembourg over een introverte tiener die door een klasgenote uitgedaagd wordt om echte intimiteit aan te gaan. www.filmtheaterfraterhuis.nl</p>
LAST-MODIFIED:20260424T141053Z
LOCATION: Filmtheater Fraterhuis | Blijmarkt 25 Zwolle
SEQUENCE:0
STATUS:CONFIRMED
SUMMARY:Truly Naked
TRANSP:OPAQUE
END:VEVENT
END:VCALENDAR
