BEGIN:VCALENDAR
PRODID:-//PUBBLE//agenda//NL
VERSION:2.0
METHOD:PUBLISH
BEGIN:VEVENT
DTSTART:20260424T140000Z
DTEND:20260429T110300Z
DTSTAMP:20260424T140737Z
UID:3d387524-1127-4178-9187-3596540ef582
CREATED:20260424T140737Z
NAME:Het meisje met het rode haar deswollenaer.nl
X-WR-CALNAME:Het meisje met het rode haar
X-ALT-DESC;FMTTYPE=text/html:<a href='/agenda/2026/4/24/het-meisje-met-het-rode-haar-360822'>/agenda/2026/4/24/het-meisje-met-het-rode-haar-360822</a> || <p>Het aangrijpende verhaal over de Haarlemse studente Hannie Schaft die zich in de Tweede Wereldoorlog aansluit bij het verzet. www.filmtheaterfraterhuis.nl</p>
DESCRIPTION:<a href='/agenda/2026/4/24/het-meisje-met-het-rode-haar-360822'>/agenda/2026/4/24/het-meisje-met-het-rode-haar-360822</a> || <p>Het aangrijpende verhaal over de Haarlemse studente Hannie Schaft die zich in de Tweede Wereldoorlog aansluit bij het verzet. www.filmtheaterfraterhuis.nl</p>
LAST-MODIFIED:20260424T140737Z
LOCATION: Filmtheater Fraterhuis | Blijmarkt 25 Zwolle
SEQUENCE:0
STATUS:CONFIRMED
SUMMARY:Het meisje met het rode haar
TRANSP:OPAQUE
END:VEVENT
END:VCALENDAR
