BEGIN:VCALENDAR
PRODID:-//PUBBLE//agenda//NL
VERSION:2.0
METHOD:PUBLISH
BEGIN:VEVENT
DTSTART:20260423T114500Z
DTEND:20260430T110800Z
DTSTAMP:20260421T124640Z
UID:4a96af1a-f3e0-4ff5-b6fd-55fc7ccac9c6
CREATED:20260421T124640Z
NAME:I Swear deswollenaer.nl
X-WR-CALNAME:I Swear
X-ALT-DESC;FMTTYPE=text/html:<a href='/agenda/2026/4/23/i-swear-360823'>/agenda/2026/4/23/i-swear-360823</a> || <p>Het inspirerende verhaal over de Schot John Davidson wiens openheid en humor de wereld hielpen inzien wat het betekent om met het syndroom van Gilles de la Tourette te leven. www.filmtheaterfraterhuis.nl</p>
DESCRIPTION:<a href='/agenda/2026/4/23/i-swear-360823'>/agenda/2026/4/23/i-swear-360823</a> || <p>Het inspirerende verhaal over de Schot John Davidson wiens openheid en humor de wereld hielpen inzien wat het betekent om met het syndroom van Gilles de la Tourette te leven. www.filmtheaterfraterhuis.nl</p>
LAST-MODIFIED:20260421T124640Z
LOCATION: Filmtheater Fraterhuis | Blijmarkt 25 Zwolle
SEQUENCE:0
STATUS:CONFIRMED
SUMMARY:I Swear
TRANSP:OPAQUE
END:VEVENT
END:VCALENDAR
