BEGIN:VCALENDAR
PRODID:-//PUBBLE//agenda//NL
VERSION:2.0
METHOD:PUBLISH
BEGIN:VEVENT
DTSTART:20260426T100000Z
DTEND:20260426T112000Z
DTSTAMP:20260426T031748Z
UID:bda1808c-fb02-4140-908d-ebd2e22fa984
CREATED:20260426T031748Z
NAME:Dandelion’s Odyssey | Voorpremière deswollenaer.nl
X-WR-CALNAME:Dandelion’s Odyssey | Voorpremière
X-ALT-DESC;FMTTYPE=text/html:<a href='/agenda/2026/4/26/dandelions-odyssey-voorpremiere-360824'>/agenda/2026/4/26/dandelions-odyssey-voorpremiere-360824</a> || <p>Een epische, wonderbaarlijke natuurfabel waarin vier paardenbloempluisjes een odyssee van interplanetaire dimensies moeten zien te overleven. www.filmtheaterfraterhuis.nl</p>
DESCRIPTION:<a href='/agenda/2026/4/26/dandelions-odyssey-voorpremiere-360824'>/agenda/2026/4/26/dandelions-odyssey-voorpremiere-360824</a> || <p>Een epische, wonderbaarlijke natuurfabel waarin vier paardenbloempluisjes een odyssee van interplanetaire dimensies moeten zien te overleven. www.filmtheaterfraterhuis.nl</p>
LAST-MODIFIED:20260426T031748Z
LOCATION: Filmtheater Fraterhuis | Blijmarkt 25 Zwolle
SEQUENCE:0
STATUS:CONFIRMED
SUMMARY:Dandelion’s Odyssey | Voorpremière
TRANSP:OPAQUE
END:VEVENT
END:VCALENDAR
